Workbook
Name Años: Tablas!$B$5:$B$21
Name Cuentas: OFFSET(Tablas!$H$4,1,0,COUNTA(Tablas!$H$5:$H$5000),1)
Name Tipo_Gastos: Tablas!$F$5:$F$10

Sheet Plantilla gastos
G2: ▼ gráficos | K2: Gastos ►
D5: NOMBRE EMPRESA | G5: GASTOS ANUALES | M5: Moneda: | N5: Soles | O5: Año: | P5: 2016
D7: INGRESOS/Cobros | E7: Total | F7: % | G7: Enero | H7: Febrero | I7: Marzo | J7: Abril | K7: Mayo | L7: Junio | M7: Julio | N7: Agosto | O7: Septiembre | P7: Octubre | Q7: Noviembre | R7: Diciembre
D9: Ingresos por ventas | E9: =SUM(G9:R9) -> 276000 | F9: =IFERROR(E9/$E$10,0) -> 1 | G9: 23000 | H9: 23000 | I9: 23000 | J9: 23000 | K9: 23000 | L9: 23000 | M9: 23000 | N9: 23000 | O9: 23000 | P9: 23000 | Q9: 23000 | R9: 23000
D10: Ingresos/Cobros NETOS | E10: =SUM(E9:E9) -> 276000 | F10: =SUM(F9:F9) -> 1 | G10: =SUM(G9:G9) -> 23000 | H10: =SUM(H9:H9) -> 23000 | I10: =SUM(I9:I9) -> 23000 | J10: =SUM(J9:J9) -> 23000 | K10: =SUM(K9:K9) -> 23000 | L10: =SUM(L9:L9) -> 23000 | ... R10: =SUM(R9:R9) -> 23000
G11: =+G10 -> 23000 | H11: =+G11+H10 -> 46000 | I11: =+H11+I10 -> 69000 | J11: =+I11+J10 -> 92000 | K11: =+J11+K10 -> 115000 | L11: =+K11+L10 -> 138000 | M11: =+L11+M10 -> 161000 | N11: =+M11+N10 -> 184000 | O11: =+N11+O10 -> 207000 | ... R11: =+Q11+R10 -> 276000
D12: GASTOS/Pagos | E12: =E7 -> Total | F12: % | G12: =G7 -> Enero | H12: =H7 -> Febrero | I12: =I7 -> Marzo | J12: =J7 -> Abril | K12: =K7 -> Mayo | L12: =L7 -> Junio | M12: =M7 -> Julio | N12: =N7 -> Agosto | ... R12: =R7 -> Diciembre
C14: 1 | D14: GASTOS DE PERSONAL | E14: =SUM(E15:E44) -> 75535 | F14: =IFERROR(E14/$E$207,0) -> 0.27012577 | G14: =SUM(G15:G44) -> 17662 | H14: =SUM(H15:H44) -> 6299 | I14: =SUM(I15:I44) -> 0 | J14: =SUM(J15:J44) -> 23080 | K14: =SUM(K15:K44) -> 18675 | L14: =SUM(L15:L44) -> 9819 | M14: =SUM(M15:M44) -> 0 | N14: =SUM(N15:N44) -> 0 | ... R14: =SUM(R15:R44) -> 0
C15: 1 | D15: =IFERROR(INDEX(Tablas!$H$5:$H$1048576,MATCH(CONCATENATE(C14,".",$C15),Tablas!$L$5:$L$1048576,0),1),"") -> Consumos | E15: =SUM(G15:R15) -> 3153 | F15: =IFERROR(E15/E14,"") -> 0.041742239 | G15: =SUMIFS(Tabla7[Monto],Tabla7[Moneda],$N$5,Tabla7[Mes],G$12,Tabla7[Cuenta asociada],$D15) -> 3153 | H15: =SUMIFS(Tabla7[Monto],Tabla7[Moneda],$N$5,Tabla7[Mes],H$12,Tabla7[Cuenta asociada],$D15) -> 0 | I15: =SUMIFS(Tabla7[Monto],Tabla7[Moneda],$N$5,Tabla7[Mes],I$12,Tabla7[Cuenta asociada],$D15) -> 0 | J15: =SUMIFS(Tabla7[Monto],Tabla7[Moneda],$N$5,Tabla7[Mes],J$12,Tabla7[Cuenta asociada],$D15) -> 0 | K15: =SUMIFS(Tabla7[Monto],Tabla7[Moneda],$N$5,Tabla7[Mes],K$12,Tabla7[Cuenta asociada],$D15) -> 0 | L15: =SUMIFS(Tabla7[Monto],Tabla7[Moneda],$N$5,Tabla7[Mes],L$12,Tabla7[Cuenta asociada],$D15) -> 0 | M15: =SUMIFS(Tabla7[Monto],Tabla7[Moneda],$N$5,Tabla7[Mes],M$12,Tabla7[Cuenta asociada],$D15) -> 0 | N15: =SUMIFS(Tabla7[Monto],Tabla7[Moneda],$N$5,Tabla7[Mes],N$12,Tabla7[Cuenta asociada],$D15) -> 0 | ... R15: =SUMIFS(Tabla7[Monto],Tabla7[Moneda],$N$5,Tabla7[Mes],R$12,Tabla7[Cuenta asociada],$D15) -> 0
C16: 2 | D16: =IFERROR(INDEX(Tablas!$H$5:$H$1048576,MATCH(CONCATENATE(C14,".",$C16),Tablas!$L$5:$L$1048576,0),1),"") -> Sueldos | E16: =SUM(G16:R16) -> 5203 | F16: =IFERROR(E16/E14,"") -> 0.068881975 | G16: =SUMIFS(Tabla7[Monto],Tabla7[Moneda],$N$5,Tabla7[Mes],G$12,Tabla7[Cuenta asociada],$D16) -> 0 | H16: =SUMIFS(Tabla7[Monto],Tabla7[Moneda],$N$5,Tabla7[Mes],H$12,Tabla7[Cuenta asociada],$D16) -> 5203 | I16: =SUMIFS(Tabla7[Monto],Tabla7[Moneda],$N$5,Tabla7[Mes],I$12,Tabla7[Cuenta asociada],$D16) -> 0 | J16: =SUMIFS(Tabla7[Monto],Tabla7[Moneda],$N$5,Tabla7[Mes],J$12,Tabla7[Cuenta asociada],$D16) -> 0 | K16: =SUMIFS(Tabla7[Monto],Tabla7[Moneda],$N$5,Tabla7[Mes],K$12,Tabla7[Cuenta asociada],$D16) -> 0 | L16: =SUMIFS(Tabla7[Monto],Tabla7[Moneda],$N$5,Tabla7[Mes],L$12,Tabla7[Cuenta asociada],$D16) -> 0 | M16: =SUMIFS(Tabla7[Monto],Tabla7[Moneda],$N$5,Tabla7[Mes],M$12,Tabla7[Cuenta asociada],$D16) -> 0 | N16: =SUMIFS(Tabla7[Monto],Tabla7[Moneda],$N$5,Tabla7[Mes],N$12,Tabla7[Cuenta asociada],$D16) -> 0 | ... R16: =SUMIFS(Tabla7[Monto],Tabla7[Moneda],$N$5,Tabla7[Mes],R$12,Tabla7[Cuenta asociada],$D16) -> 0
C17: 3 | D17: =IFERROR(INDEX(Tablas!$H$5:$H$1048576,MATCH(CONCATENATE(C14,".",$C17),Tablas!$L$5:$L$1048576,0),1),"") -> Gratif. Ordinarias Empleados | E17: =SUM(G17:R17) -> 8210 | F17: =IFERROR(E17/E14,"") -> 0.10869134 | G17: =SUMIFS(Tabla7[Monto],Tabla7[Moneda],$N$5,Tabla7[Mes],G$12,Tabla7[Cuenta asociada],$D17) -> 0 | H17: =SUMIFS(Tabla7[Monto],Tabla7[Moneda],$N$5,Tabla7[Mes],H$12,Tabla7[Cuenta asociada],$D17) -> 0 | I17: =SUMIFS(Tabla7[Monto],Tabla7[Moneda],$N$5,Tabla7[Mes],I$12,Tabla7[Cuenta asociada],$D17) -> 0 | J17: =SUMIFS(Tabla7[Monto],Tabla7[Moneda],$N$5,Tabla7[Mes],J$12,Tabla7[Cuenta asociada],$D17) -> 8210 | K17: =SUMIFS(Tabla7[Monto],Tabla7[Moneda],$N$5,Tabla7[Mes],K$12,Tabla7[Cuenta asociada],$D17) -> 0 | L17: =SUMIFS(Tabla7[Monto],Tabla7[Moneda],$N$5,Tabla7[Mes],L$12,Tabla7[Cuenta asociada],$D17) -> 0 | M17: =SUMIFS(Tabla7[Monto],Tabla7[Moneda],$N$5,Tabla7[Mes],M$12,Tabla7[Cuenta asociada],$D17) -> 0 | N17: =SUMIFS(Tabla7[Monto],Tabla7[Moneda],$N$5,Tabla7[Mes],N$12,Tabla7[Cuenta asociada],$D17) -> 0 | ... R17: =SUMIFS(Tabla7[Monto],Tabla7[Moneda],$N$5,Tabla7[Mes],R$12,Tabla7[Cuenta asociada],$D17) -> 0
C18: 4 | D18: =IFERROR(INDEX(Tablas!$H$5:$H$1048576,MATCH(CONCATENATE(C14,".",$C18),Tablas!$L$5:$L$1048576,0),1),"") -> Gratificaciones Extraordinarias Empleados | E18: =SUM(G18:R18) -> 5992 | F18: =IFERROR(E18/E14,"") -> 0.079327464 | G18: =SUMIFS(Tabla7[Monto],Tabla7[Moneda],$N$5,Tabla7[Mes],G$12,Tabla7[Cuenta asociada],$D18) -> 0 | H18: =SUMIFS(Tabla7[Monto],Tabla7[Moneda],$N$5,Tabla7[Mes],H$12,Tabla7[Cuenta asociada],$D18) -> 0 | I18: =SUMIFS(Tabla7[Monto],Tabla7[Moneda],$N$5,Tabla7[Mes],I$12,Tabla7[Cuenta asociada],$D18) -> 0 | J18: =SUMIFS(Tabla7[Monto],Tabla7[Moneda],$N$5,Tabla7[Mes],J$12,Tabla7[Cuenta asociada],$D18) -> 5992 | K18: =SUMIFS(Tabla7[Monto],Tabla7[Moneda],$N$5,Tabla7[Mes],K$12,Tabla7[Cuenta asociada],$D18) -> 0 | L18: =SUMIFS(Tabla7[Monto],Tabla7[Moneda],$N$5,Tabla7[Mes],L$12,Tabla7[Cuenta asociada],$D18) -> 0 | M18: =SUMIFS(Tabla7[Monto],Tabla7[Moneda],$N$5,Tabla7[Mes],M$12,Tabla7[Cuenta asociada],$D18) -> 0 | N18: =SUMIFS(Tabla7[Monto],Tabla7[Moneda],$N$5,Tabla7[Mes],N$12,Tabla7[Cuenta asociada],$D18) -> 0 | ... R18: =SUMIFS(Tabla7[Monto],Tabla7[Moneda],$N$5,Tabla7[Mes],R$12,Tabla7[Cuenta asociada],$D18) -> 0
C19: 5 | D19: =IFERROR(INDEX(Tablas!$H$5:$H$1048576,MATCH(CONCATENATE(C14,".",$C19),Tablas!$L$5:$L$1048576,0),1),"") -> Vacaciones | E19: =SUM(G19:R19) -> 5565 | F19: =IFERROR(E19/E14,"") -> 0.073674456 | G19: =SUMIFS(Tabla7[Monto],Tabla7[Moneda],$N$5,Tabla7[Mes],G$12,Tabla7[Cuenta asociada],$D19) -> 5565 | H19: =SUMIFS(Tabla7[Monto],Tabla7[Moneda],$N$5,Tabla7[Mes],H$12,Tabla7[Cuenta asociada],$D19) -> 0 | I19: =SUMIFS(Tabla7[Monto],Tabla7[Moneda],$N$5,Tabla7[Mes],I$12,Tabla7[Cuenta asociada],$D19) -> 0 | J19: =SUMIFS(Tabla7[Monto],Tabla7[Moneda],$N$5,Tabla7[Mes],J$12,Tabla7[Cuenta asociada],$D19) -> 0 | K19: =SUMIFS(Tabla7[Monto],Tabla7[Moneda],$N$5,Tabla7[Mes],K$12,Tabla7[Cuenta asociada],$D19) -> 0 | L19: =SUMIFS(Tabla7[Monto],Tabla7[Moneda],$N$5,Tabla7[Mes],L$12,Tabla7[Cuenta asociada],$D19) -> 0 | M19: =SUMIFS(Tabla7[Monto],Tabla7[Moneda],$N$5,Tabla7[Mes],M$12,Tabla7[Cuenta asociada],$D19) -> 0 | N19: =SUMIFS(Tabla7[Monto],Tabla7[Moneda],$N$5,Tabla7[Mes],N$12,Tabla7[Cuenta asociada],$D19) -> 0 | ... R19: =SUMIFS(Tabla7[Monto],Tabla7[Moneda],$N$5,Tabla7[Mes],R$12,Tabla7[Cuenta asociada],$D19) -> 0
C20: 6 | D20: =IFERROR(INDEX(Tablas!$H$5:$H$1048576,MATCH(CONCATENATE(C14,".",$C20),Tablas!$L$5:$L$1048576,0),1),"") -> Descanso medico | E20: =SUM(G20:R20) -> 3394 | F20: =IFERROR(E20/E14,"") -> 0.044932813 | G20: =SUMIFS(Tabla7[Monto],Tabla7[Moneda],$N$5,Tabla7[Mes],G$12,Tabla7[Cuenta asociada],$D20) -> 0 | H20: =SUMIFS(Tabla7[Monto],Tabla7[Moneda],$N$5,Tabla7[Mes],H$12,Tabla7[Cuenta asociada],$D20) -> 0 | I20: =SUMIFS(Tabla7[Monto],Tabla7[Moneda],$N$5,Tabla7[Mes],I$12,Tabla7[Cuenta asociada],$D20) -> 0 | J20: =SUMIFS(Tabla7[Monto],Tabla7[Moneda],$N$5,Tabla7[Mes],J$12,Tabla7[Cuenta asociada],$D20) -> 0 | K20: =SUMIFS(Tabla7[Monto],Tabla7[Moneda],$N$5,Tabla7[Mes],K$12,Tabla7[Cuenta asociada],$D20) -> 3394 | L20: =SUMIFS(Tabla7[Monto],Tabla7[Moneda],$N$5,Tabla7[Mes],L$12,Tabla7[Cuenta asociada],$D20) -> 0 | M20: =SUMIFS(Tabla7[Monto],Tabla7[Moneda],$N$5,Tabla7[Mes],M$12,Tabla7[Cuenta asociada],$D20) -> 0 | N20: =SUMIFS(Tabla7[Monto],Tabla7[Moneda],$N$5,Tabla7[Mes],N$12,Tabla7[Cuenta asociada],$D20) -> 0 | ... R20: =SUMIFS(Tabla7[Monto],Tabla7[Moneda],$N$5,Tabla7[Mes],R$12,Tabla7[Cuenta asociada],$D20) -> 0
C21: 7 | D21: =IFERROR(INDEX(Tablas!$H$5:$H$1048576,MATCH(CONCATENATE(C14,".",$C21),Tablas!$L$5:$L$1048576,0),1),"") -> Movilidad y/o servicio de Transporte | E21: =SUM(G21:R21) -> 3248 | F21: =IFERROR(E21/E14,"") -> 0.042999934 | G21: =SUMIFS(Tabla7[Monto],Tabla7[Moneda],$N$5,Tabla7[Mes],G$12,Tabla7[Cuenta asociada],$D21) -> 0 | H21: =SUMIFS(Tabla7[Monto],Tabla7[Moneda],$N$5,Tabla7[Mes],H$12,Tabla7[Cuenta asociada],$D21) -> 0 | I21: =SUMIFS(Tabla7[Monto],Tabla7[Moneda],$N$5,Tabla7[Mes],I$12,Tabla7[Cuenta asociada],$D21) -> 0 | J21: =SUMIFS(Tabla7[Monto],Tabla7[Moneda],$N$5,Tabla7[Mes],J$12,Tabla7[Cuenta asociada],$D21) -> 0 | K21: =SUMIFS(Tabla7[Monto],Tabla7[Moneda],$N$5,Tabla7[Mes],K$12,Tabla7[Cuenta asociada],$D21) -> 3248 | L21: =SUMIFS(Tabla7[Monto],Tabla7[Moneda],$N$5,Tabla7[Mes],L$12,Tabla7[Cuenta asociada],$D21) -> 0 | M21: =SUMIFS(Tabla7[Monto],Tabla7[Moneda],$N$5,Tabla7[Mes],M$12,Tabla7[Cuenta asociada],$D21) -> 0 | N21: =SUMIFS(Tabla7[Monto],Tabla7[Moneda],$N$5,Tabla7[Mes],N$12,Tabla7[Cuenta asociada],$D21) -> 0 | ... R21: =SUMIFS(Tabla7[Monto],Tabla7[Moneda],$N$5,Tabla7[Mes],R$12,Tabla7[Cuenta asociada],$D21) -> 0
C22: 8 | D22: =IFERROR(INDEX(Tablas!$H$5:$H$1048576,MATCH(CONCATENATE(C14,".",$C22),Tablas!$L$5:$L$1048576,0),1),"") -> Uniformes | E22: =SUM(G22:R22) -> 928 | F22: =IFERROR(E22/E14,"") -> 0.012285695 | G22: =SUMIFS(Tabla7[Monto],Tabla7[Moneda],$N$5,Tabla7[Mes],G$12,Tabla7[Cuenta asociada],$D22) -> 0 | H22: =SUMIFS(Tabla7[Monto],Tabla7[Moneda],$N$5,Tabla7[Mes],H$12,Tabla7[Cuenta asociada],$D22) -> 0 | I22: =SUMIFS(Tabla7[Monto],Tabla7[Moneda],$N$5,Tabla7[Mes],I$12,Tabla7[Cuenta asociada],$D22) -> 0 | J22: =SUMIFS(Tabla7[Monto],Tabla7[Moneda],$N$5,Tabla7[Mes],J$12,Tabla7[Cuenta asociada],$D22) -> 0 | K22: =SUMIFS(Tabla7[Monto],Tabla7[Moneda],$N$5,Tabla7[Mes],K$12,Tabla7[Cuenta asociada],$D22) -> 0 | L22: =SUMIFS(Tabla7[Monto],Tabla7[Moneda],$N$5,Tabla7[Mes],L$12,Tabla7[Cuenta asociada],$D22) -> 928 | M22: =SUMIFS(Tabla7[Monto],Tabla7[Moneda],$N$5,Tabla7[Mes],M$12,Tabla7[Cuenta asociada],$D22) -> 0 | N22: =SUMIFS(Tabla7[Monto],Tabla7[Moneda],$N$5,Tabla7[Mes],N$12,Tabla7[Cuenta asociada],$D22) -> 0 | ... R22: =SUMIFS(Tabla7[Monto],Tabla7[Moneda],$N$5,Tabla7[Mes],R$12,Tabla7[Cuenta asociada],$D22) -> 0
C23: 9 | D23: =IFERROR(INDEX(Tablas!$H$5:$H$1048576,MATCH(CONCATENATE(C14,".",$C23),Tablas!$L$5:$L$1048576,0),1),"") -> Atenciones y obsequios al personal | E23: =SUM(G23:R23) -> 1642 | F23: =IFERROR(E23/E14,"") -> 0.021738267 | G23: =SUMIFS(Tabla7[Monto],Tabla7[Moneda],$N$5,Tabla7[Mes],G$12,Tabla7[Cuenta asociada],$D23) -> 0 | H23: =SUMIFS(Tabla7[Monto],Tabla7[Moneda],$N$5,Tabla7[Mes],H$12,Tabla7[Cuenta asociada],$D23) -> 0 | I23: =SUMIFS(Tabla7[Monto],Tabla7[Moneda],$N$5,Tabla7[Mes],I$12,Tabla7[Cuenta asociada],$D23) -> 0 | J23: =SUMIFS(Tabla7[Monto],Tabla7[Moneda],$N$5,Tabla7[Mes],J$12,Tabla7[Cuenta asociada],$D23) -> 1642 | K23: =SUMIFS(Tabla7[Monto],Tabla7[Moneda],$N$5,Tabla7[Mes],K$12,Tabla7[Cuenta asociada],$D23) -> 0 | L23: =SUMIFS(Tabla7[Monto],Tabla7[Moneda],$N$5,Tabla7[Mes],L$12,Tabla7[Cuenta asociada],$D23) -> 0 | M23: =SUMIFS(Tabla7[Monto],Tabla7[Moneda],$N$5,Tabla7[Mes],M$12,Tabla7[Cuenta asociada],$D23) -> 0 | N23: =SUMIFS(Tabla7[Monto],Tabla7[Moneda],$N$5,Tabla7[Mes],N$12,Tabla7[Cuenta asociada],$D23) -> 0 | ... R23: =SUMIFS(Tabla7[Monto],Tabla7[Moneda],$N$5,Tabla7[Mes],R$12,Tabla7[Cuenta asociada],$D23) -> 0
C24: 10 | D24: =IFERROR(INDEX(Tablas!$H$5:$H$1048576,MATCH(CONCATENATE(C14,".",$C24),Tablas!$L$5:$L$1048576,0),1),"") -> Tickets de alimentos | E24: =SUM(G24:R24) -> 1149 | F24: =IFERROR(E24/E14,"") -> 0.015211491 | G24: =SUMIFS(Tabla7[Monto],Tabla7[Moneda],$N$5,Tabla7[Mes],G$12,Tabla7[Cuenta asociada],$D24) -> 0 | H24: =SUMIFS(Tabla7[Monto],Tabla7[Moneda],$N$5,Tabla7[Mes],H$12,Tabla7[Cuenta asociada],$D24) -> 0 | I24: =SUMIFS(Tabla7[Monto],Tabla7[Moneda],$N$5,Tabla7[Mes],I$12,Tabla7[Cuenta asociada],$D24) -> 0 | J24: =SUMIFS(Tabla7[Monto],Tabla7[Moneda],$N$5,Tabla7[Mes],J$12,Tabla7[Cuenta asociada],$D24) -> 0 | K24: =SUMIFS(Tabla7[Monto],Tabla7[Moneda],$N$5,Tabla7[Mes],K$12,Tabla7[Cuenta asociada],$D24) -> 1149 | L24: =SUMIFS(Tabla7[Monto],Tabla7[Moneda],$N$5,Tabla7[Mes],L$12,Tabla7[Cuenta asociada],$D24) -> 0 | M24: =SUMIFS(Tabla7[Monto],Tabla7[Moneda],$N$5,Tabla7[Mes],M$12,Tabla7[Cuenta asociada],$D24) -> 0 | N24: =SUMIFS(Tabla7[Monto],Tabla7[Moneda],$N$5,Tabla7[Mes],N$12,Tabla7[Cuenta asociada],$D24) -> 0 | ... R24: =SUMIFS(Tabla7[Monto],Tabla7[Moneda],$N$5,Tabla7[Mes],R$12,Tabla7[Cuenta asociada],$D24) -> 0
C25: 11 | D25: =IFERROR(INDEX(Tablas!$H$5:$H$1048576,MATCH(CONCATENATE(C14,".",$C25),Tablas!$L$5:$L$1048576,0),1),"") -> ESSALUD-RÚgimen de prestaciones de salud | E25: =SUM(G25:R25) -> 1096 | F25: =IFERROR(E25/E14,"") -> 0.01450983 | G25: =SUMIFS(Tabla7[Monto],Tabla7[Moneda],$N$5,Tabla7[Mes],G$12,Tabla7[Cuenta asociada],$D25) -> 0 | H25: =SUMIFS(Tabla7[Monto],Tabla7[Moneda],$N$5,Tabla7[Mes],H$12,Tabla7[Cuenta asociada],$D25) -> 1096 | I25: =SUMIFS(Tabla7[Monto],Tabla7[Moneda],$N$5,Tabla7[Mes],I$12,Tabla7[Cuenta asociada],$D25) -> 0 | J25: =SUMIFS(Tabla7[Monto],Tabla7[Moneda],$N$5,Tabla7[Mes],J$12,Tabla7[Cuenta asociada],$D25) -> 0 | K25: =SUMIFS(Tabla7[Monto],Tabla7[Moneda],$N$5,Tabla7[Mes],K$12,Tabla7[Cuenta asociada],$D25) -> 0 | L25: =SUMIFS(Tabla7[Monto],Tabla7[Moneda],$N$5,Tabla7[Mes],L$12,Tabla7[Cuenta asociada],$D25) -> 0 | M25: =SUMIFS(Tabla7[Monto],Tabla7[Moneda],$N$5,Tabla7[Mes],M$12,Tabla7[Cuenta asociada],$D25) -> 0 | N25: =SUMIFS(Tabla7[Monto],Tabla7[Moneda],$N$5,Tabla7[Mes],N$12,Tabla7[Cuenta asociada],$D25) -> 0 | ... R25: =SUMIFS(Tabla7[Monto],Tabla7[Moneda],$N$5,Tabla7[Mes],R$12,Tabla7[Cuenta asociada],$D25) -> 0
C26: 12 | D26: =IFERROR(INDEX(Tablas!$H$5:$H$1048576,MATCH(CONCATENATE(C14,".",$C26),Tablas!$L$5:$L$1048576,0),1),"") -> SCTR-Seg complemntario trabajo de riesgo | E26: =SUM(G26:R26) -> 7236 | F26: =IFERROR(E26/E14,"") -> 0.095796651 | G26: =SUMIFS(Tabla7[Monto],Tabla7[Moneda],$N$5,Tabla7[Mes],G$12,Tabla7[Cuenta asociada],$D26) -> 0 | H26: =SUMIFS(Tabla7[Monto],Tabla7[Moneda],$N$5,Tabla7[Mes],H$12,Tabla7[Cuenta asociada],$D26) -> 0 | I26: =SUMIFS(Tabla7[Monto],Tabla7[Moneda],$N$5,Tabla7[Mes],I$12,Tabla7[Cuenta asociada],$D26) -> 0 | J26: =SUMIFS(Tabla7[Monto],Tabla7[Moneda],$N$5,Tabla7[Mes],J$12,Tabla7[Cuenta asociada],$D26) -> 7236 | K26: =SUMIFS(Tabla7[Monto],Tabla7[Moneda],$N$5,Tabla7[Mes],K$12,Tabla7[Cuenta asociada],$D26) -> 0 | L26: =SUMIFS(Tabla7[Monto],Tabla7[Moneda],$N$5,Tabla7[Mes],L$12,Tabla7[Cuenta asociada],$D26) -> 0 | M26: =SUMIFS(Tabla7[Monto],Tabla7[Moneda],$N$5,Tabla7[Mes],M$12,Tabla7[Cuenta asociada],$D26) -> 0 | N26: =SUMIFS(Tabla7[Monto],Tabla7[Moneda],$N$5,Tabla7[Mes],N$12,Tabla7[Cuenta asociada],$D26) -> 0 | ... R26: =SUMIFS(Tabla7[Monto],Tabla7[Moneda],$N$5,Tabla7[Mes],R$12,Tabla7[Cuenta asociada],$D26) -> 0
C27: 13 | D27: =IFERROR(INDEX(Tablas!$H$5:$H$1048576,MATCH(CONCATENATE(C14,".",$C27),Tablas!$L$5:$L$1048576,0),1),"") -> Seguro de vida | E27: =SUM(G27:R27) -> 2913 | F27: =IFERROR(E27/E14,"") -> 0.038564904 | G27: =SUMIFS(Tabla7[Monto],Tabla7[Moneda],$N$5,Tabla7[Mes],G$12,Tabla7[Cuenta asociada],$D27) -> 0 | H27: =SUMIFS(Tabla7[Monto],Tabla7[Moneda],$N$5,Tabla7[Mes],H$12,Tabla7[Cuenta asociada],$D27) -> 0 | I27: =SUMIFS(Tabla7[Monto],Tabla7[Moneda],$N$5,Tabla7[Mes],I$12,Tabla7[Cuenta asociada],$D27) -> 0 | J27: =SUMIFS(Tabla7[Monto],Tabla7[Moneda],$N$5,Tabla7[Mes],J$12,Tabla7[Cuenta asociada],$D27) -> 0 | K27: =SUMIFS(Tabla7[Monto],Tabla7[Moneda],$N$5,Tabla7[Mes],K$12,Tabla7[Cuenta asociada],$D27) -> 2913 | L27: =SUMIFS(Tabla7[Monto],Tabla7[Moneda],$N$5,Tabla7[Mes],L$12,Tabla7[Cuenta asociada],$D27) -> 0 | M27: =SUMIFS(Tabla7[Monto],Tabla7[Moneda],$N$5,Tabla7[Mes],M$12,Tabla7[Cuenta asociada],$D27) -> 0 | N27: =SUMIFS(Tabla7[Monto],Tabla7[Moneda],$N$5,Tabla7[Mes],N$12,Tabla7[Cuenta asociada],$D27) -> 0 | ... R27: =SUMIFS(Tabla7[Monto],Tabla7[Moneda],$N$5,Tabla7[Mes],R$12,Tabla7[Cuenta asociada],$D27) -> 0
C28: 14 | D28: =IFERROR(INDEX(Tablas!$H$5:$H$1048576,MATCH(CONCATENATE(C14,".",$C28),Tablas!$L$5:$L$1048576,0),1),"") -> Participacion de utilidades | E28: =SUM(G28:R28) -> 7971 | F28: =IFERROR(E28/E14,"") -> 0.10552724 | G28: =SUMIFS(Tabla7[Monto],Tabla7[Moneda],$N$5,Tabla7[Mes],G$12,Tabla7[Cuenta asociada],$D28) -> 0 | H28: =SUMIFS(Tabla7[Monto],Tabla7[Moneda],$N$5,Tabla7[Mes],H$12,Tabla7[Cuenta asociada],$D28) -> 0 | I28: =SUMIFS(Tabla7[Monto],Tabla7[Moneda],$N$5,Tabla7[Mes],I$12,Tabla7[Cuenta asociada],$D28) -> 0 | J28: =SUMIFS(Tabla7[Monto],Tabla7[Moneda],$N$5,Tabla7[Mes],J$12,Tabla7[Cuenta asociada],$D28) -> 0 | K28: =SUMIFS(Tabla7[Monto],Tabla7[Moneda],$N$5,Tabla7[Mes],K$12,Tabla7[Cuenta asociada],$D28) -> 7971 | L28: =SUMIFS(Tabla7[Monto],Tabla7[Moneda],$N$5,Tabla7[Mes],L$12,Tabla7[Cuenta asociada],$D28) -> 0 | M28: =SUMIFS(Tabla7[Monto],Tabla7[Moneda],$N$5,Tabla7[Mes],M$12,Tabla7[Cuenta asociada],$D28) -> 0 | N28: =SUMIFS(Tabla7[Monto],Tabla7[Moneda],$N$5,Tabla7[Mes],N$12,Tabla7[Cuenta asociada],$D28) -> 0 | ... R28: =SUMIFS(Tabla7[Monto],Tabla7[Moneda],$N$5,Tabla7[Mes],R$12,Tabla7[Cuenta asociada],$D28) -> 0
C29: 15 | D29: =IFERROR(INDEX(Tablas!$H$5:$H$1048576,MATCH(CONCATENATE(C14,".",$C29),Tablas!$L$5:$L$1048576,0),1),"") -> Incentivo por cese | E29: =SUM(G29:R29) -> 4945 | F29: =IFERROR(E29/E14,"") -> 0.06546634 | G29: =SUMIFS(Tabla7[Monto],Tabla7[Moneda],$N$5,Tabla7[Mes],G$12,Tabla7[Cuenta asociada],$D29) -> 4945 | H29: =SUMIFS(Tabla7[Monto],Tabla7[Moneda],$N$5,Tabla7[Mes],H$12,Tabla7[Cuenta asociada],$D29) -> 0 | I29: =SUMIFS(Tabla7[Monto],Tabla7[Moneda],$N$5,Tabla7[Mes],I$12,Tabla7[Cuenta asociada],$D29) -> 0 | J29: =SUMIFS(Tabla7[Monto],Tabla7[Moneda],$N$5,Tabla7[Mes],J$12,Tabla7[Cuenta asociada],$D29) -> 0 | K29: =SUMIFS(Tabla7[Monto],Tabla7[Moneda],$N$5,Tabla7[Mes],K$12,Tabla7[Cuenta asociada],$D29) -> 0 | L29: =SUMIFS(Tabla7[Monto],Tabla7[Moneda],$N$5,Tabla7[Mes],L$12,Tabla7[Cuenta asociada],$D29) -> 0 | M29: =SUMIFS(Tabla7[Monto],Tabla7[Moneda],$N$5,Tabla7[Mes],M$12,Tabla7[Cuenta asociada],$D29) -> 0 | N29: =SUMIFS(Tabla7[Monto],Tabla7[Moneda],$N$5,Tabla7[Mes],N$12,Tabla7[Cuenta asociada],$D29) -> 0 | ... R29: =SUMIFS(Tabla7[Monto],Tabla7[Moneda],$N$5,Tabla7[Mes],R$12,Tabla7[Cuenta asociada],$D29) -> 0
C30: 16 | D30: =IFERROR(INDEX(Tablas!$H$5:$H$1048576,MATCH(CONCATENATE(C14,".",$C30),Tablas!$L$5:$L$1048576,0),1),"") -> Indemnizacion Despido Arbitrario | E30: =SUM(G30:R30) -> 8891 | F30: =IFERROR(E30/E14,"") -> 0.11770702 | G30: =SUMIFS(Tabla7[Monto],Tabla7[Moneda],$N$5,Tabla7[Mes],G$12,Tabla7[Cuenta asociada],$D30) -> 0 | H30: =SUMIFS(Tabla7[Monto],Tabla7[Moneda],$N$5,Tabla7[Mes],H$12,Tabla7[Cuenta asociada],$D30) -> 0 | I30: =SUMIFS(Tabla7[Monto],Tabla7[Moneda],$N$5,Tabla7[Mes],I$12,Tabla7[Cuenta asociada],$D30) -> 0 | J30: =SUMIFS(Tabla7[Monto],Tabla7[Moneda],$N$5,Tabla7[Mes],J$12,Tabla7[Cuenta asociada],$D30) -> 0 | K30: =SUMIFS(Tabla7[Monto],Tabla7[Moneda],$N$5,Tabla7[Mes],K$12,Tabla7[Cuenta asociada],$D30) -> 0 | L30: =SUMIFS(Tabla7[Monto],Tabla7[Moneda],$N$5,Tabla7[Mes],L$12,Tabla7[Cuenta asociada],$D30) -> 8891 | M30: =SUMIFS(Tabla7[Monto],Tabla7[Moneda],$N$5,Tabla7[Mes],M$12,Tabla7[Cuenta asociada],$D30) -> 0 | N30: =SUMIFS(Tabla7[Monto],Tabla7[Moneda],$N$5,Tabla7[Mes],N$12,Tabla7[Cuenta asociada],$D30) -> 0 | ... R30: =SUMIFS(Tabla7[Monto],Tabla7[Moneda],$N$5,Tabla7[Mes],R$12,Tabla7[Cuenta asociada],$D30) -> 0
C31: 17 | D31: =IFERROR(INDEX(Tablas!$H$5:$H$1048576,MATCH(CONCATENATE(C14,".",$C31),Tablas!$L$5:$L$1048576,0),1),"") -> CTS-Compensación por tiempo de servicio | E31: =SUM(G31:R31) -> 3999 | F31: =IFERROR(E31/E14,"") -> 0.052942345 | G31: =SUMIFS(Tabla7[Monto],Tabla7[Moneda],$N$5,Tabla7[Mes],G$12,Tabla7[Cuenta asociada],$D31) -> 3999 | H31: =SUMIFS(Tabla7[Monto],Tabla7[Moneda],$N$5,Tabla7[Mes],H$12,Tabla7[Cuenta asociada],$D31) -> 0 | I31: =SUMIFS(Tabla7[Monto],Tabla7[Moneda],$N$5,Tabla7[Mes],I$12,Tabla7[Cuenta asociada],$D31) -> 0 | J31: =SUMIFS(Tabla7[Monto],Tabla7[Moneda],$N$5,Tabla7[Mes],J$12,Tabla7[Cuenta asociada],$D31) -> 0 | K31: =SUMIFS(Tabla7[Monto],Tabla7[Moneda],$N$5,Tabla7[Mes],K$12,Tabla7[Cuenta asociada],$D31) -> 0 | L31: =SUMIFS(Tabla7[Monto],Tabla7[Moneda],$N$5,Tabla7[Mes],L$12,Tabla7[Cuenta asociada],$D31) -> 0 | M31: =SUMIFS(Tabla7[Monto],Tabla7[Moneda],$N$5,Tabla7[Mes],M$12,Tabla7[Cuenta asociada],$D31) -> 0 | N31: =SUMIFS(Tabla7[Monto],Tabla7[Moneda],$N$5,Tabla7[Mes],N$12,Tabla7[Cuenta asociada],$D31) -> 0 | ... R31: =SUMIFS(Tabla7[Monto],Tabla7[Moneda],$N$5,Tabla7[Mes],R$12,Tabla7[Cuenta asociada],$D31) -> 0
C32: 18 | D32: =IFERROR(INDEX(Tablas!$H$5:$H$1048576,MATCH(CONCATENATE(C14,".",$C32),Tablas!$L$5:$L$1048576,0),1),"") | E32: =SUM(G32:R32) -> 0 | F32: =IFERROR(E32/E14,"") -> 0 | G32: =SUMIFS(Tabla7[Monto],Tabla7[Moneda],$N$5,Tabla7[Mes],G$12,Tabla7[Cuenta asociada],$D32) -> 0 | H32: =SUMIFS(Tabla7[Monto],Tabla7[Moneda],$N$5,Tabla7[Mes],H$12,Tabla7[Cuenta asociada],$D32) -> 0 | I32: =SUMIFS(Tabla7[Monto],Tabla7[Moneda],$N$5,Tabla7[Mes],I$12,Tabla7[Cuenta asociada],$D32) -> 0 | J32: =SUMIFS(Tabla7[Monto],Tabla7[Moneda],$N$5,Tabla7[Mes],J$12,Tabla7[Cuenta asociada],$D32) -> 0 | K32: =SUMIFS(Tabla7[Monto],Tabla7[Moneda],$N$5,Tabla7[Mes],K$12,Tabla7[Cuenta asociada],$D32) -> 0 | L32: =SUMIFS(Tabla7[Monto],Tabla7[Moneda],$N$5,Tabla7[Mes],L$12,Tabla7[Cuenta asociada],$D32) -> 0 | M32: =SUMIFS(Tabla7[Monto],Tabla7[Moneda],$N$5,Tabla7[Mes],M$12,Tabla7[Cuenta asociada],$D32) -> 0 | N32: =SUMIFS(Tabla7[Monto],Tabla7[Moneda],$N$5,Tabla7[Mes],N$12,Tabla7[Cuenta asociada],$D32) -> 0 | ... R32: =SUMIFS(Tabla7[Monto],Tabla7[Moneda],$N$5,Tabla7[Mes],R$12,Tabla7[Cuenta asociada],$D32) -> 0
C33: 19 | D33: =IFERROR(INDEX(Tablas!$H$5:$H$1048576,MATCH(CONCATENATE(C14,".",$C33),Tablas!$L$5:$L$1048576,0),1),"") | E33: =SUM(G33:R33) -> 0 | F33: =IFERROR(E33/E14,"") -> 0 | G33: =SUMIFS(Tabla7[Monto],Tabla7[Moneda],$N$5,Tabla7[Mes],G$12,Tabla7[Cuenta asociada],$D33) -> 0 | H33: =SUMIFS(Tabla7[Monto],Tabla7[Moneda],$N$5,Tabla7[Mes],H$12,Tabla7[Cuenta asociada],$D33) -> 0 | I33: =SUMIFS(Tabla7[Monto],Tabla7[Moneda],$N$5,Tabla7[Mes],I$12,Tabla7[Cuenta asociada],$D33) -> 0 | J33: =SUMIFS(Tabla7[Monto],Tabla7[Moneda],$N$5,Tabla7[Mes],J$12,Tabla7[Cuenta asociada],$D33) -> 0 | K33: =SUMIFS(Tabla7[Monto],Tabla7[Moneda],$N$5,Tabla7[Mes],K$12,Tabla7[Cuenta asociada],$D33) -> 0 | L33: =SUMIFS(Tabla7[Monto],Tabla7[Moneda],$N$5,Tabla7[Mes],L$12,Tabla7[Cuenta asociada],$D33) -> 0 | M33: =SUMIFS(Tabla7[Monto],Tabla7[Moneda],$N$5,Tabla7[Mes],M$12,Tabla7[Cuenta asociada],$D33) -> 0 | N33: =SUMIFS(Tabla7[Monto],Tabla7[Moneda],$N$5,Tabla7[Mes],N$12,Tabla7[Cuenta asociada],$D33) -> 0 | ... R33: =SUMIFS(Tabla7[Monto],Tabla7[Moneda],$N$5,Tabla7[Mes],R$12,Tabla7[Cuenta asociada],$D33) -> 0
C34: 20 | D34: =IFERROR(INDEX(Tablas!$H$5:$H$1048576,MATCH(CONCATENATE(C14,".",$C34),Tablas!$L$5:$L$1048576,0),1),"") | E34: =SUM(G34:R34) -> 0 | F34: =IFERROR(E34/E14,"") -> 0 | G34: =SUMIFS(Tabla7[Monto],Tabla7[Moneda],$N$5,Tabla7[Mes],G$12,Tabla7[Cuenta asociada],$D34) -> 0 | H34: =SUMIFS(Tabla7[Monto],Tabla7[Moneda],$N$5,Tabla7[Mes],H$12,Tabla7[Cuenta asociada],$D34) -> 0 | I34: =SUMIFS(Tabla7[Monto],Tabla7[Moneda],$N$5,Tabla7[Mes],I$12,Tabla7[Cuenta asociada],$D34) -> 0 | J34: =SUMIFS(Tabla7[Monto],Tabla7[Moneda],$N$5,Tabla7[Mes],J$12,Tabla7[Cuenta asociada],$D34) -> 0 | K34: =SUMIFS(Tabla7[Monto],Tabla7[Moneda],$N$5,Tabla7[Mes],K$12,Tabla7[Cuenta asociada],$D34) -> 0 | L34: =SUMIFS(Tabla7[Monto],Tabla7[Moneda],$N$5,Tabla7[Mes],L$12,Tabla7[Cuenta asociada],$D34) -> 0 | M34: =SUMIFS(Tabla7[Monto],Tabla7[Moneda],$N$5,Tabla7[Mes],M$12,Tabla7[Cuenta asociada],$D34) -> 0 | N34: =SUMIFS(Tabla7[Monto],Tabla7[Moneda],$N$5,Tabla7[Mes],N$12,Tabla7[Cuenta asociada],$D34) -> 0 | ... R34: =SUMIFS(Tabla7[Monto],Tabla7[Moneda],$N$5,Tabla7[Mes],R$12,Tabla7[Cuenta asociada],$D34) -> 0
C35: 21 | D35: =IFERROR(INDEX(Tablas!$H$5:$H$1048576,MATCH(CONCATENATE(C14,".",$C35),Tablas!$L$5:$L$1048576,0),1),"") | E35: =SUM(G35:R35) -> 0 | F35: =IFERROR(E35/E14,"") -> 0 | G35: =SUMIFS(Tabla7[Monto],Tabla7[Moneda],$N$5,Tabla7[Mes],G$12,Tabla7[Cuenta asociada],$D35) -> 0 | H35: =SUMIFS(Tabla7[Monto],Tabla7[Moneda],$N$5,Tabla7[Mes],H$12,Tabla7[Cuenta asociada],$D35) -> 0 | I35: =SUMIFS(Tabla7[Monto],Tabla7[Moneda],$N$5,Tabla7[Mes],I$12,Tabla7[Cuenta asociada],$D35) -> 0 | J35: =SUMIFS(Tabla7[Monto],Tabla7[Moneda],$N$5,Tabla7[Mes],J$12,Tabla7[Cuenta asociada],$D35) -> 0 | K35: =SUMIFS(Tabla7[Monto],Tabla7[Moneda],$N$5,Tabla7[Mes],K$12,Tabla7[Cuenta asociada],$D35) -> 0 | L35: =SUMIFS(Tabla7[Monto],Tabla7[Moneda],$N$5,Tabla7[Mes],L$12,Tabla7[Cuenta asociada],$D35) -> 0 | M35: =SUMIFS(Tabla7[Monto],Tabla7[Moneda],$N$5,Tabla7[Mes],M$12,Tabla7[Cuenta asociada],$D35) -> 0 | N35: =SUMIFS(Tabla7[Monto],Tabla7[Moneda],$N$5,Tabla7[Mes],N$12,Tabla7[Cuenta asociada],$D35) -> 0 | ... R35: =SUMIFS(Tabla7[Monto],Tabla7[Moneda],$N$5,Tabla7[Mes],R$12,Tabla7[Cuenta asociada],$D35) -> 0
C36: 22 | D36: =IFERROR(INDEX(Tablas!$H$5:$H$1048576,MATCH(CONCATENATE(C14,".",$C36),Tablas!$L$5:$L$1048576,0),1),"") | E36: =SUM(G36:R36) -> 0 | F36: =IFERROR(E36/E14,"") -> 0 | G36: =SUMIFS(Tabla7[Monto],Tabla7[Moneda],$N$5,Tabla7[Mes],G$12,Tabla7[Cuenta asociada],$D36) -> 0 | H36: =SUMIFS(Tabla7[Monto],Tabla7[Moneda],$N$5,Tabla7[Mes],H$12,Tabla7[Cuenta asociada],$D36) -> 0 | I36: =SUMIFS(Tabla7[Monto],Tabla7[Moneda],$N$5,Tabla7[Mes],I$12,Tabla7[Cuenta asociada],$D36) -> 0 | J36: =SUMIFS(Tabla7[Monto],Tabla7[Moneda],$N$5,Tabla7[Mes],J$12,Tabla7[Cuenta asociada],$D36) -> 0 | K36: =SUMIFS(Tabla7[Monto],Tabla7[Moneda],$N$5,Tabla7[Mes],K$12,Tabla7[Cuenta asociada],$D36) -> 0 | L36: =SUMIFS(Tabla7[Monto],Tabla7[Moneda],$N$5,Tabla7[Mes],L$12,Tabla7[Cuenta asociada],$D36) -> 0 | M36: =SUMIFS(Tabla7[Monto],Tabla7[Moneda],$N$5,Tabla7[Mes],M$12,Tabla7[Cuenta asociada],$D36) -> 0 | N36: =SUMIFS(Tabla7[Monto],Tabla7[Moneda],$N$5,Tabla7[Mes],N$12,Tabla7[Cuenta asociada],$D36) -> 0 | ... R36: =SUMIFS(Tabla7[Monto],Tabla7[Moneda],$N$5,Tabla7[Mes],R$12,Tabla7[Cuenta asociada],$D36) -> 0
C37: 23 | D37: =IFERROR(INDEX(Tablas!$H$5:$H$1048576,MATCH(CONCATENATE(C14,".",$C37),Tablas!$L$5:$L$1048576,0),1),"") | E37: =SUM(G37:R37) -> 0 | F37: =IFERROR(E37/E14,"") -> 0 | G37: =SUMIFS(Tabla7[Monto],Tabla7[Moneda],$N$5,Tabla7[Mes],G$12,Tabla7[Cuenta asociada],$D37) -> 0 | H37: =SUMIFS(Tabla7[Monto],Tabla7[Moneda],$N$5,Tabla7[Mes],H$12,Tabla7[Cuenta asociada],$D37) -> 0 | I37: =SUMIFS(Tabla7[Monto],Tabla7[Moneda],$N$5,Tabla7[Mes],I$12,Tabla7[Cuenta asociada],$D37) -> 0 | J37: =SUMIFS(Tabla7[Monto],Tabla7[Moneda],$N$5,Tabla7[Mes],J$12,Tabla7[Cuenta asociada],$D37) -> 0 | K37: =SUMIFS(Tabla7[Monto],Tabla7[Moneda],$N$5,Tabla7[Mes],K$12,Tabla7[Cuenta asociada],$D37) -> 0 | L37: =SUMIFS(Tabla7[Monto],Tabla7[Moneda],$N$5,Tabla7[Mes],L$12,Tabla7[Cuenta asociada],$D37) -> 0 | M37: =SUMIFS(Tabla7[Monto],Tabla7[Moneda],$N$5,Tabla7[Mes],M$12,Tabla7[Cuenta asociada],$D37) -> 0 | N37: =SUMIFS(Tabla7[Monto],Tabla7[Moneda],$N$5,Tabla7[Mes],N$12,Tabla7[Cuenta asociada],$D37) -> 0 | ... R37: =SUMIFS(Tabla7[Monto],Tabla7[Moneda],$N$5,Tabla7[Mes],R$12,Tabla7[Cuenta asociada],$D37) -> 0
C38: 24 | D38: =IFERROR(INDEX(Tablas!$H$5:$H$1048576,MATCH(CONCATENATE(C14,".",$C38),Tablas!$L$5:$L$1048576,0),1),"") | E38: =SUM(G38:R38) -> 0 | F38: =IFERROR(E38/E14,"") -> 0 | G38: =SUMIFS(Tabla7[Monto],Tabla7[Moneda],$N$5,Tabla7[Mes],G$12,Tabla7[Cuenta asociada],$D38) -> 0 | H38: =SUMIFS(Tabla7[Monto],Tabla7[Moneda],$N$5,Tabla7[Mes],H$12,Tabla7[Cuenta asociada],$D38) -> 0 | I38: =SUMIFS(Tabla7[Monto],Tabla7[Moneda],$N$5,Tabla7[Mes],I$12,Tabla7[Cuenta asociada],$D38) -> 0 | J38: =SUMIFS(Tabla7[Monto],Tabla7[Moneda],$N$5,Tabla7[Mes],J$12,Tabla7[Cuenta asociada],$D38) -> 0 | K38: =SUMIFS(Tabla7[Monto],Tabla7[Moneda],$N$5,Tabla7[Mes],K$12,Tabla7[Cuenta asociada],$D38) -> 0 | L38: =SUMIFS(Tabla7[Monto],Tabla7[Moneda],$N$5,Tabla7[Mes],L$12,Tabla7[Cuenta asociada],$D38) -> 0 | M38: =SUMIFS(Tabla7[Monto],Tabla7[Moneda],$N$5,Tabla7[Mes],M$12,Tabla7[Cuenta asociada],$D38) -> 0 | N38: =SUMIFS(Tabla7[Monto],Tabla7[Moneda],$N$5,Tabla7[Mes],N$12,Tabla7[Cuenta asociada],$D38) -> 0 | ... R38: =SUMIFS(Tabla7[Monto],Tabla7[Moneda],$N$5,Tabla7[Mes],R$12,Tabla7[Cuenta asociada],$D38) -> 0
C39: 25 | D39: =IFERROR(INDEX(Tablas!$H$5:$H$1048576,MATCH(CONCATENATE(C14,".",$C39),Tablas!$L$5:$L$1048576,0),1),"") | E39: =SUM(G39:R39) -> 0 | F39: =IFERROR(E39/E14,"") -> 0 | G39: =SUMIFS(Tabla7[Monto],Tabla7[Moneda],$N$5,Tabla7[Mes],G$12,Tabla7[Cuenta asociada],$D39) -> 0 | H39: =SUMIFS(Tabla7[Monto],Tabla7[Moneda],$N$5,Tabla7[Mes],H$12,Tabla7[Cuenta asociada],$D39) -> 0 | I39: =SUMIFS(Tabla7[Monto],Tabla7[Moneda],$N$5,Tabla7[Mes],I$12,Tabla7[Cuenta asociada],$D39) -> 0 | J39: =SUMIFS(Tabla7[Monto],Tabla7[Moneda],$N$5,Tabla7[Mes],J$12,Tabla7[Cuenta asociada],$D39) -> 0 | K39: =SUMIFS(Tabla7[Monto],Tabla7[Moneda],$N$5,Tabla7[Mes],K$12,Tabla7[Cuenta asociada],$D39) -> 0 | L39: =SUMIFS(Tabla7[Monto],Tabla7[Moneda],$N$5,Tabla7[Mes],L$12,Tabla7[Cuenta asociada],$D39) -> 0 | M39: =SUMIFS(Tabla7[Monto],Tabla7[Moneda],$N$5,Tabla7[Mes],M$12,Tabla7[Cuenta asociada],$D39) -> 0 | N39: =SUMIFS(Tabla7[Monto],Tabla7[Moneda],$N$5,Tabla7[Mes],N$12,Tabla7[Cuenta asociada],$D39) -> 0 | ... R39: =SUMIFS(Tabla7[Monto],Tabla7[Moneda],$N$5,Tabla7[Mes],R$12,Tabla7[Cuenta asociada],$D39) -> 0
C40: 26 | D40: =IFERROR(INDEX(Tablas!$H$5:$H$1048576,MATCH(CONCATENATE(C14,".",$C40),Tablas!$L$5:$L$1048576,0),1),"") | E40: =SUM(G40:R40) -> 0 | F40: =IFERROR(E40/E14,"") -> 0 | G40: =SUMIFS(Tabla7[Monto],Tabla7[Moneda],$N$5,Tabla7[Mes],G$12,Tabla7[Cuenta asociada],$D40) -> 0 | H40: =SUMIFS(Tabla7[Monto],Tabla7[Moneda],$N$5,Tabla7[Mes],H$12,Tabla7[Cuenta asociada],$D40) -> 0 | I40: =SUMIFS(Tabla7[Monto],Tabla7[Moneda],$N$5,Tabla7[Mes],I$12,Tabla7[Cuenta asociada],$D40) -> 0 | J40: =SUMIFS(Tabla7[Monto],Tabla7[Moneda],$N$5,Tabla7[Mes],J$12,Tabla7[Cuenta asociada],$D40) -> 0 | K40: =SUMIFS(Tabla7[Monto],Tabla7[Moneda],$N$5,Tabla7[Mes],K$12,Tabla7[Cuenta asociada],$D40) -> 0 | L40: =SUMIFS(Tabla7[Monto],Tabla7[Moneda],$N$5,Tabla7[Mes],L$12,Tabla7[Cuenta asociada],$D40) -> 0 | M40: =SUMIFS(Tabla7[Monto],Tabla7[Moneda],$N$5,Tabla7[Mes],M$12,Tabla7[Cuenta asociada],$D40) -> 0 | N40: =SUMIFS(Tabla7[Monto],Tabla7[Moneda],$N$5,Tabla7[Mes],N$12,Tabla7[Cuenta asociada],$D40) -> 0 | ... R40: =SUMIFS(Tabla7[Monto],Tabla7[Moneda],$N$5,Tabla7[Mes],R$12,Tabla7[Cuenta asociada],$D40) -> 0
C41: 27 | D41: =IFERROR(INDEX(Tablas!$H$5:$H$1048576,MATCH(CONCATENATE(C14,".",$C41),Tablas!$L$5:$L$1048576,0),1),"") | E41: =SUM(G41:R41) -> 0 | F41: =IFERROR(E41/E14,"") -> 0 | G41: =SUMIFS(Tabla7[Monto],Tabla7[Moneda],$N$5,Tabla7[Mes],G$12,Tabla7[Cuenta asociada],$D41) -> 0 | H41: =SUMIFS(Tabla7[Monto],Tabla7[Moneda],$N$5,Tabla7[Mes],H$12,Tabla7[Cuenta asociada],$D41) -> 0 | I41: =SUMIFS(Tabla7[Monto],Tabla7[Moneda],$N$5,Tabla7[Mes],I$12,Tabla7[Cuenta asociada],$D41) -> 0 | J41: =SUMIFS(Tabla7[Monto],Tabla7[Moneda],$N$5,Tabla7[Mes],J$12,Tabla7[Cuenta asociada],$D41) -> 0 | K41: =SUMIFS(Tabla7[Monto],Tabla7[Moneda],$N$5,Tabla7[Mes],K$12,Tabla7[Cuenta asociada],$D41) -> 0 | L41: =SUMIFS(Tabla7[Monto],Tabla7[Moneda],$N$5,Tabla7[Mes],L$12,Tabla7[Cuenta asociada],$D41) -> 0 | M41: =SUMIFS(Tabla7[Monto],Tabla7[Moneda],$N$5,Tabla7[Mes],M$12,Tabla7[Cuenta asociada],$D41) -> 0 | N41: =SUMIFS(Tabla7[Monto],Tabla7[Moneda],$N$5,Tabla7[Mes],N$12,Tabla7[Cuenta asociada],$D41) -> 0 | ... R41: =SUMIFS(Tabla7[Monto],Tabla7[Moneda],$N$5,Tabla7[Mes],R$12,Tabla7[Cuenta asociada],$D41) -> 0
C42: 28 | D42: =IFERROR(INDEX(Tablas!$H$5:$H$1048576,MATCH(CONCATENATE(C14,".",$C42),Tablas!$L$5:$L$1048576,0),1),"") | E42: =SUM(G42:R42) -> 0 | F42: =IFERROR(E42/E14,"") -> 0 | G42: =SUMIFS(Tabla7[Monto],Tabla7[Moneda],$N$5,Tabla7[Mes],G$12,Tabla7[Cuenta asociada],$D42) -> 0 | H42: =SUMIFS(Tabla7[Monto],Tabla7[Moneda],$N$5,Tabla7[Mes],H$12,Tabla7[Cuenta asociada],$D42) -> 0 | I42: =SUMIFS(Tabla7[Monto],Tabla7[Moneda],$N$5,Tabla7[Mes],I$12,Tabla7[Cuenta asociada],$D42) -> 0 | J42: =SUMIFS(Tabla7[Monto],Tabla7[Moneda],$N$5,Tabla7[Mes],J$12,Tabla7[Cuenta asociada],$D42) -> 0 | K42: =SUMIFS(Tabla7[Monto],Tabla7[Moneda],$N$5,Tabla7[Mes],K$12,Tabla7[Cuenta asociada],$D42) -> 0 | L42: =SUMIFS(Tabla7[Monto],Tabla7[Moneda],$N$5,Tabla7[Mes],L$12,Tabla7[Cuenta asociada],$D42) -> 0 | M42: =SUMIFS(Tabla7[Monto],Tabla7[Moneda],$N$5,Tabla7[Mes],M$12,Tabla7[Cuenta asociada],$D42) -> 0 | N42: =SUMIFS(Tabla7[Monto],Tabla7[Moneda],$N$5,Tabla7[Mes],N$12,Tabla7[Cuenta asociada],$D42) -> 0 | ... R42: =SUMIFS(Tabla7[Monto],Tabla7[Moneda],$N$5,Tabla7[Mes],R$12,Tabla7[Cuenta asociada],$D42) -> 0
C43: 29 | D43: =IFERROR(INDEX(Tablas!$H$5:$H$1048576,MATCH(CONCATENATE(C14,".",$C43),Tablas!$L$5:$L$1048576,0),1),"") | E43: =SUM(G43:R43) -> 0 | F43: =IFERROR(E43/E14,"") -> 0 | G43: =SUMIFS(Tabla7[Monto],Tabla7[Moneda],$N$5,Tabla7[Mes],G$12,Tabla7[Cuenta asociada],$D43) -> 0 | H43: =SUMIFS(Tabla7[Monto],Tabla7[Moneda],$N$5,Tabla7[Mes],H$12,Tabla7[Cuenta asociada],$D43) -> 0 | I43: =SUMIFS(Tabla7[Monto],Tabla7[Moneda],$N$5,Tabla7[Mes],I$12,Tabla7[Cuenta asociada],$D43) -> 0 | J43: =SUMIFS(Tabla7[Monto],Tabla7[Moneda],$N$5,Tabla7[Mes],J$12,Tabla7[Cuenta asociada],$D43) -> 0 | K43: =SUMIFS(Tabla7[Monto],Tabla7[Moneda],$N$5,Tabla7[Mes],K$12,Tabla7[Cuenta asociada],$D43) -> 0 | L43: =SUMIFS(Tabla7[Monto],Tabla7[Moneda],$N$5,Tabla7[Mes],L$12,Tabla7[Cuenta asociada],$D43) -> 0 | M43: =SUMIFS(Tabla7[Monto],Tabla7[Moneda],$N$5,Tabla7[Mes],M$12,Tabla7[Cuenta asociada],$D43) -> 0 | N43: =SUMIFS(Tabla7[Monto],Tabla7[Moneda],$N$5,Tabla7[Mes],N$12,Tabla7[Cuenta asociada],$D43) -> 0 | ... R43: =SUMIFS(Tabla7[Monto],Tabla7[Moneda],$N$5,Tabla7[Mes],R$12,Tabla7[Cuenta asociada],$D43) -> 0
C44: 30 | D44: =IFERROR(INDEX(Tablas!$H$5:$H$1048576,MATCH(CONCATENATE(C14,".",$C44),Tablas!$L$5:$L$1048576,0),1),"") | E44: =SUM(G44:R44) -> 0 | F44: =IFERROR(E44/E14,"") -> 0 | G44: =SUMIFS(Tabla7[Monto],Tabla7[Moneda],$N$5,Tabla7[Mes],G$12,Tabla7[Cuenta asociada],$D44) -> 0 | H44: =SUMIFS(Tabla7[Monto],Tabla7[Moneda],$N$5,Tabla7[Mes],H$12,Tabla7[Cuenta asociada],$D44) -> 0 | I44: =SUMIFS(Tabla7[Monto],Tabla7[Moneda],$N$5,Tabla7[Mes],I$12,Tabla7[Cuenta asociada],$D44) -> 0 | J44: =SUMIFS(Tabla7[Monto],Tabla7[Moneda],$N$5,Tabla7[Mes],J$12,Tabla7[Cuenta asociada],$D44) -> 0 | K44: =SUMIFS(Tabla7[Monto],Tabla7[Moneda],$N$5,Tabla7[Mes],K$12,Tabla7[Cuenta asociada],$D44) -> 0 | L44: =SUMIFS(Tabla7[Monto],Tabla7[Moneda],$N$5,Tabla7[Mes],L$12,Tabla7[Cuenta asociada],$D44) -> 0 | M44: =SUMIFS(Tabla7[Monto],Tabla7[Moneda],$N$5,Tabla7[Mes],M$12,Tabla7[Cuenta asociada],$D44) -> 0 | N44: =SUMIFS(Tabla7[Monto],Tabla7[Moneda],$N$5,Tabla7[Mes],N$12,Tabla7[Cuenta asociada],$D44) -> 0 | ... R44: =SUMIFS(Tabla7[Monto],Tabla7[Moneda],$N$5,Tabla7[Mes],R$12,Tabla7[Cuenta asociada],$D44) -> 0
C46: =+C14+1 -> 2 | D46: GASTOS DE SERVICIOS DE TERCEROS | E46: =SUM(E47:E76) -> 93214 | F46: =IFERROR(E46/$E$207,0) -> 0.33334883 | G46: =SUM(G47:G76) -> 28531 | H46: =SUM(H47:H76) -> 17997 | I46: =SUM(I47:I76) -> 26283 | J46: =SUM(J47:J76) -> 9620 | K46: =SUM(K47:K76) -> 3114 | L46: =SUM(L47:L76) -> 7669 | M46: =SUM(M47:M76) -> 0 | N46: =SUM(N47:N76) -> 0 | ... R46: =SUM(R47:R76) -> 0
C47: 1 | D47: =IFERROR(INDEX(Tablas!$H$5:$H$1048576,MATCH(CONCATENATE(C46,".",$C47),Tablas!$L$5:$L$1048576,0),1),"") -> Otros Fletes | E47: =SUM(G47:R47) -> 1446 | F47: =IFERROR(E47/E46,"") -> 0.015512691 | G47: =SUMIFS(Tabla7[Monto],Tabla7[Moneda],$N$5,Tabla7[Mes],G$12,Tabla7[Cuenta asociada],$D47) -> 0 | H47: =SUMIFS(Tabla7[Monto],Tabla7[Moneda],$N$5,Tabla7[Mes],H$12,Tabla7[Cuenta asociada],$D47) -> 0 | I47: =SUMIFS(Tabla7[Monto],Tabla7[Moneda],$N$5,Tabla7[Mes],I$12,Tabla7[Cuenta asociada],$D47) -> 1446 | J47: =SUMIFS(Tabla7[Monto],Tabla7[Moneda],$N$5,Tabla7[Mes],J$12,Tabla7[Cuenta asociada],$D47) -> 0 | K47: =SUMIFS(Tabla7[Monto],Tabla7[Moneda],$N$5,Tabla7[Mes],K$12,Tabla7[Cuenta asociada],$D47) -> 0 | L47: =SUMIFS(Tabla7[Monto],Tabla7[Moneda],$N$5,Tabla7[Mes],L$12,Tabla7[Cuenta asociada],$D47) -> 0 | M47: =SUMIFS(Tabla7[Monto],Tabla7[Moneda],$N$5,Tabla7[Mes],M$12,Tabla7[Cuenta asociada],$D47) -> 0 | N47: =SUMIFS(Tabla7[Monto],Tabla7[Moneda],$N$5,Tabla7[Mes],N$12,Tabla7[Cuenta asociada],$D47) -> 0 | ... R47: =SUMIFS(Tabla7[Monto],Tabla7[Moneda],$N$5,Tabla7[Mes],R$12,Tabla7[Cuenta asociada],$D47) -> 0
...

Sheet Registro de gastos
A1: Registro de Gastos
A3: Campos registrados por el usuario | G3: Campos salen automático
A4: Fecha | B4: Descripción del gasto | C4: Cuenta asociada | D4: Tipo de gasto (automático) | E4: Moneda | F4: Monto | G4: Mes | H4: Año
A5: =RANDBETWEEN(43101,43281) -> 43105 | B5: gasto xxxx | C5: Consumos | D5: =IFERROR(INDEX(Tablas!$I$5:$I$1048576,MATCH(Tabla7[[#This Row],[Cuenta asociada]],Tablas!$H$5:$H$1048576,0),1),"") -> GASTOS DE PERSONAL | E5: Soles | F5: =RANDBETWEEN(100,9000) -> 3153 | G5: =IF($A5="","",VLOOKUP(MONTH(A5),Tablas!$C$5:$D$16,2,0)) -> Enero | H5: =IF($A5="","",YEAR(A5)) -> 2018
A6: =RANDBETWEEN(43101,43281) -> 43142 | B6: gasto xxxx | C6: Sueldos | D6: =IFERROR(INDEX(Tablas!$I$5:$I$1048576,MATCH(Tabla7[[#This Row],[Cuenta asociada]],Tablas!$H$5:$H$1048576,0),1),"") -> GASTOS DE PERSONAL | E6: Soles | F6: =RANDBETWEEN(100,9000) -> 5203 | G6: =IF($A6="","",VLOOKUP(MONTH(A6),Tablas!$C$5:$D$16,2,0)) -> Febrero | H6: =IF($A6="","",YEAR(A6)) -> 2018
A7: =RANDBETWEEN(43101,43281) -> 43216 | B7: gasto xxxx | C7: Gratif. Ordinarias Empleados | D7: =IFERROR(INDEX(Tablas!$I$5:$I$1048576,MATCH(Tabla7[[#This Row],[Cuenta asociada]],Tablas!$H$5:$H$1048576,0),1),"") -> GASTOS DE PERSONAL | E7: Soles | F7: =RANDBETWEEN(100,9000) -> 8210 | G7: =IF($A7="","",VLOOKUP(MONTH(A7),Tablas!$C$5:$D$16,2,0)) -> Abril | H7: =IF($A7="","",YEAR(A7)) -> 2018
A8: =RANDBETWEEN(43101,43281) -> 43192 | B8: gasto xxxx | C8: Gratificaciones Extraordinarias Empleados | D8: =IFERROR(INDEX(Tablas!$I$5:$I$1048576,MATCH(Tabla7[[#This Row],[Cuenta asociada]],Tablas!$H$5:$H$1048576,0),1),"") -> GASTOS DE PERSONAL | E8: Soles | F8: =RANDBETWEEN(100,9000) -> 5992 | G8: =IF($A8="","",VLOOKUP(MONTH(A8),Tablas!$C$5:$D$16,2,0)) -> Abril | H8: =IF($A8="","",YEAR(A8)) -> 2018
A9: =RANDBETWEEN(43101,43281) -> 43126 | B9: gasto xxxx | C9: Vacaciones | D9: =IFERROR(INDEX(Tablas!$I$5:$I$1048576,MATCH(Tabla7[[#This Row],[Cuenta asociada]],Tablas!$H$5:$H$1048576,0),1),"") -> GASTOS DE PERSONAL | E9: Soles | F9: =RANDBETWEEN(100,9000) -> 5565 | G9: =IF($A9="","",VLOOKUP(MONTH(A9),Tablas!$C$5:$D$16,2,0)) -> Enero | H9: =IF($A9="","",YEAR(A9)) -> 2018
A10: =RANDBETWEEN(43101,43281) -> 43231 | B10: gasto xxxx | C10: Descanso medico | D10: =IFERROR(INDEX(Tablas!$I$5:$I$1048576,MATCH(Tabla7[[#This Row],[Cuenta asociada]],Tablas!$H$5:$H$1048576,0),1),"") -> GASTOS DE PERSONAL | E10: Soles | F10: =RANDBETWEEN(100,9000) -> 3394 | G10: =IF($A10="","",VLOOKUP(MONTH(A10),Tablas!$C$5:$D$16,2,0)) -> Mayo | H10: =IF($A10="","",YEAR(A10)) -> 2018
A11: =RANDBETWEEN(43101,43281) -> 43227 | B11: gasto xxxx | C11: Movilidad y/o servicio de Transporte | D11: =IFERROR(INDEX(Tablas!$I$5:$I$1048576,MATCH(Tabla7[[#This Row],[Cuenta asociada]],Tablas!$H$5:$H$1048576,0),1),"") -> GASTOS DE PERSONAL | E11: Soles | F11: =RANDBETWEEN(100,9000) -> 3248 | G11: =IF($A11="","",VLOOKUP(MONTH(A11),Tablas!$C$5:$D$16,2,0)) -> Mayo | H11: =IF($A11="","",YEAR(A11)) -> 2018
A12: =RANDBETWEEN(43101,43281) -> 43274 | B12: gasto xxxx | C12: Uniformes | D12: =IFERROR(INDEX(Tablas!$I$5:$I$1048576,MATCH(Tabla7[[#This Row],[Cuenta asociada]],Tablas!$H$5:$H$1048576,0),1),"") -> GASTOS DE PERSONAL | E12: Soles | F12: =RANDBETWEEN(100,9000) -> 928 | G12: =IF($A12="","",VLOOKUP(MONTH(A12),Tablas!$C$5:$D$16,2,0)) -> Junio | H12: =IF($A12="","",YEAR(A12)) -> 2018
A13: =RANDBETWEEN(43101,43281) -> 43204 | B13: gasto xxxx | C13: Atenciones y obsequios al personal | D13: =IFERROR(INDEX(Tablas!$I$5:$I$1048576,MATCH(Tabla7[[#This Row],[Cuenta asociada]],Tablas!$H$5:$H$1048576,0),1),"") -> GASTOS DE PERSONAL | E13: Soles | F13: =RANDBETWEEN(100,9000) -> 1642 | G13: =IF($A13="","",VLOOKUP(MONTH(A13),Tablas!$C$5:$D$16,2,0)) -> Abril | H13: =IF($A13="","",YEAR(A13)) -> 2018
A14: =RANDBETWEEN(43101,43281) -> 43222 | B14: gasto xxxx | C14: Tickets de alimentos | D14: =IFERROR(INDEX(Tablas!$I$5:$I$1048576,MATCH(Tabla7[[#This Row],[Cuenta asociada]],Tablas!$H$5:$H$1048576,0),1),"") -> GASTOS DE PERSONAL | E14: Soles | F14: =RANDBETWEEN(100,9000) -> 1149 | G14: =IF($A14="","",VLOOKUP(MONTH(A14),Tablas!$C$5:$D$16,2,0)) -> Mayo | H14: =IF($A14="","",YEAR(A14)) -> 2018
A15: =RANDBETWEEN(43101,43281) -> 43132 | B15: gasto xxxx | C15: ESSALUD-RÚgimen de prestaciones de salud | D15: =IFERROR(INDEX(Tablas!$I$5:$I$1048576,MATCH(Tabla7[[#This Row],[Cuenta asociada]],Tablas!$H$5:$H$1048576,0),1),"") -> GASTOS DE PERSONAL | E15: Soles | F15: =RANDBETWEEN(100,9000) -> 1096 | G15: =IF($A15="","",VLOOKUP(MONTH(A15),Tablas!$C$5:$D$16,2,0)) -> Febrero | H15: =IF($A15="","",YEAR(A15)) -> 2018
A16: =RANDBETWEEN(43101,43281) -> 43215 | B16: gasto xxxx | C16: SCTR-Seg complemntario trabajo de riesgo | D16: =IFERROR(INDEX(Tablas!$I$5:$I$1048576,MATCH(Tabla7[[#This Row],[Cuenta asociada]],Tablas!$H$5:$H$1048576,0),1),"") -> GASTOS DE PERSONAL | E16: Soles | F16: =RANDBETWEEN(100,9000) -> 7236 | G16: =IF($A16="","",VLOOKUP(MONTH(A16),Tablas!$C$5:$D$16,2,0)) -> Abril | H16: =IF($A16="","",YEAR(A16)) -> 2018
... A69: =RANDBETWEEN(43101,43281) -> 43184 | B69: gasto xxxx | C69: Amortiz.Software Costo | D69: =IFERROR(INDEX(Tablas!$I$5:$I$1048576,MATCH(Tabla7[[#This Row],[Cuenta asociada]],Tablas!$H$5:$H$1048576,0),1),"") -> GASTOS DE DEPRECIACIÓN, MAQ Y EQUIPOS | E69: Soles | F69: =RANDBETWEEN(100,9000) -> 5400 | G69: =IF($A69="","",VLOOKUP(MONTH(A69),Tablas!$C$5:$D$16,2,0)) -> Marzo | H69: =IF($A69="","",YEAR(A69)) -> 2018

Sheet Tablas
B3: Años | D3: Meses | F3: Tipo de gasto | H3: Cuenta | I3: Tipo de gasto | J3: CODIGO ID
B5: 2014 | C5: 1 | D5: Enero | E5: 1 | F5: GASTOS DE PERSONAL | H5: Consumos | I5: GASTOS DE PERSONAL | J5: =IFERROR(INDEX($E$5:$F$14,MATCH($I5,$F$5:$F$14,0),1),"") -> 1 | K5: =IF($H5="","",COUNTIFS($I$5:I5,$I5)) -> 1 | L5: =IF($H5="","",_xlfn.CONCAT(J5,".",K5)) -> 1.1
B6: 2015 | C6: 2 | D6: Febrero | E6: 2 | F6: GASTOS DE SERVICIOS DE TERCEROS | H6: Sueldos | I6: GASTOS DE PERSONAL | J6: =IFERROR(INDEX($E$5:$F$14,MATCH($I6,$F$5:$F$14,0),1),"") -> 1 | K6: =IF($H6="","",COUNTIFS($I$5:I6,$I6)) -> 2 | L6: =IF($H6="","",_xlfn.CONCAT(J6,".",K6)) -> 1.2
B7: 2016 | C7: 3 | D7: Marzo | E7: 3 | F7: GASTOS DE GESTIÓN | H7: Gratif. Ordinarias Empleados | I7: GASTOS DE PERSONAL | J7: =IFERROR(INDEX($E$5:$F$14,MATCH($I7,$F$5:$F$14,0),1),"") -> 1 | K7: =IF($H7="","",COUNTIFS($I$5:I7,$I7)) -> 3 | L7: =IF($H7="","",_xlfn.CONCAT(J7,".",K7)) -> 1.3
B8: 2017 | C8: 4 | D8: Abril | E8: 4 | F8: GASTOS DE DEPRECIACIÓN, MAQ Y EQUIPOS | H8: Gratificaciones Extraordinarias Empleados | I8: GASTOS DE PERSONAL | J8: =IFERROR(INDEX($E$5:$F$14,MATCH($I8,$F$5:$F$14,0),1),"") -> 1 | K8: =IF($H8="","",COUNTIFS($I$5:I8,$I8)) -> 4 | L8: =IF($H8="","",_xlfn.CONCAT(J8,".",K8)) -> 1.4
B9: 2018 | C9: 5 | D9: Mayo | E9: 5 | F9: TIPO 5 | H9: Vacaciones | I9: GASTOS DE PERSONAL | J9: =IFERROR(INDEX($E$5:$F$14,MATCH($I9,$F$5:$F$14,0),1),"") -> 1 | K9: =IF($H9="","",COUNTIFS($I$5:I9,$I9)) -> 5 | L9: =IF($H9="","",_xlfn.CONCAT(J9,".",K9)) -> 1.5
B10: 2019 | C10: 6 | D10: Junio | E10: 6 | F10: TIPO 6 | H10: Descanso medico | I10: GASTOS DE PERSONAL | J10: =IFERROR(INDEX($E$5:$F$14,MATCH($I10,$F$5:$F$14,0),1),"") -> 1 | K10: =IF($H10="","",COUNTIFS($I$5:I10,$I10)) -> 6 | L10: =IF($H10="","",_xlfn.CONCAT(J10,".",K10)) -> 1.6
B11: 2020 | C11: 7 | D11: Julio | H11: Movilidad y/o servicio de Transporte | I11: GASTOS DE PERSONAL | J11: =IFERROR(INDEX($E$5:$F$14,MATCH($I11,$F$5:$F$14,0),1),"") -> 1 | K11: =IF($H11="","",COUNTIFS($I$5:I11,$I11)) -> 7 | L11: =IF($H11="","",_xlfn.CONCAT(J11,".",K11)) -> 1.7
B12: 2021 | C12: 8 | D12: Agosto | H12: Uniformes | I12: GASTOS DE PERSONAL | J12: =IFERROR(INDEX($E$5:$F$14,MATCH($I12,$F$5:$F$14,0),1),"") -> 1 | K12: =IF($H12="","",COUNTIFS($I$5:I12,$I12)) -> 8 | L12: =IF($H12="","",_xlfn.CONCAT(J12,".",K12)) -> 1.8
B13: 2022 | C13: 9 | D13: Septiembre | H13: Atenciones y obsequios al personal | I13: GASTOS DE PERSONAL | J13: =IFERROR(INDEX($E$5:$F$14,MATCH($I13,$F$5:$F$14,0),1),"") -> 1 | K13: =IF($H13="","",COUNTIFS($I$5:I13,$I13)) -> 9 | L13: =IF($H13="","",_xlfn.CONCAT(J13,".",K13)) -> 1.9
B14: 2023 | C14: 10 | D14: Octubre | H14: Tickets de alimentos | I14: GASTOS DE PERSONAL | J14: =IFERROR(INDEX($E$5:$F$14,MATCH($I14,$F$5:$F$14,0),1),"") -> 1 | K14: =IF($H14="","",COUNTIFS($I$5:I14,$I14)) -> 10 | L14: =IF($H14="","",_xlfn.CONCAT(J14,".",K14)) -> 1.10
B15: 2024 | C15: 11 | D15: Noviembre | H15: ESSALUD-RÚgimen de prestaciones de salud | I15: GASTOS DE PERSONAL | J15: =IFERROR(INDEX($E$5:$F$14,MATCH($I15,$F$5:$F$14,0),1),"") -> 1 | K15: =IF($H15="","",COUNTIFS($I$5:I15,$I15)) -> 11 | L15: =IF($H15="","",_xlfn.CONCAT(J15,".",K15)) -> 1.11
B16: 2025 | C16: 12 | D16: Diciembre | H16: SCTR-Seg complemntario trabajo de riesgo | I16: GASTOS DE PERSONAL | J16: =IFERROR(INDEX($E$5:$F$14,MATCH($I16,$F$5:$F$14,0),1),"") -> 1 | K16: =IF($H16="","",COUNTIFS($I$5:I16,$I16)) -> 12 | L16: =IF($H16="","",_xlfn.CONCAT(J16,".",K16)) -> 1.12
B17: 2026 | H17: Seguro de vida | I17: GASTOS DE PERSONAL | J17: =IFERROR(INDEX($E$5:$F$14,MATCH($I17,$F$5:$F$14,0),1),"") -> 1 | K17: =IF($H17="","",COUNTIFS($I$5:I17,$I17)) -> 13 | L17: =IF($H17="","",_xlfn.CONCAT(J17,".",K17)) -> 1.13
B18: 2027 | H18: Participacion de utilidades | I18: GASTOS DE PERSONAL | J18: =IFERROR(INDEX($E$5:$F$14,MATCH($I18,$F$5:$F$14,0),1),"") -> 1 | K18: =IF($H18="","",COUNTIFS($I$5:I18,$I18)) -> 14 | L18: =IF($H18="","",_xlfn.CONCAT(J18,".",K18)) -> 1.14
B19: 2028 | H19: Incentivo por cese | I19: GASTOS DE PERSONAL | J19: =IFERROR(INDEX($E$5:$F$14,MATCH($I19,$F$5:$F$14,0),1),"") -> 1 | K19: =IF($H19="","",COUNTIFS($I$5:I19,$I19)) -> 15 | L19: =IF($H19="","",_xlfn.CONCAT(J19,".",K19)) -> 1.15
B20: 2029 | H20: Indemnizacion Despido Arbitrario | I20: GASTOS DE PERSONAL | J20: =IFERROR(INDEX($E$5:$F$14,MATCH($I20,$F$5:$F$14,0),1),"") -> 1 | K20: =IF($H20="","",COUNTIFS($I$5:I20,$I20)) -> 16 | L20: =IF($H20="","",_xlfn.CONCAT(J20,".",K20)) -> 1.16
B21: 2030 | H21: CTS-Compensación por tiempo de servicio | I21: GASTOS DE PERSONAL | J21: =IFERROR(INDEX($E$5:$F$14,MATCH($I21,$F$5:$F$14,0),1),"") -> 1 | K21: =IF($H21="","",COUNTIFS($I$5:I21,$I21)) -> 17 | L21: =IF($H21="","",_xlfn.CONCAT(J21,".",K21)) -> 1.17
H22: Otros Fletes | I22: GASTOS DE SERVICIOS DE TERCEROS | J22: =IFERROR(INDEX($E$5:$F$14,MATCH($I22,$F$5:$F$14,0),1),"") -> 2 | K22: =IF($H22="","",COUNTIFS($I$5:I22,$I22)) -> 1 | L22: =IF($H22="","",_xlfn.CONCAT(J22,".",K22)) -> 2.1
H23: Estibas | I23: GASTOS DE SERVICIOS DE TERCEROS | J23: =IFERROR(INDEX($E$5:$F$14,MATCH($I23,$F$5:$F$14,0),1),"") -> 2 | K23: =IF($H23="","",COUNTIFS($I$5:I23,$I23)) -> 2 | L23: =IF($H23="","",_xlfn.CONCAT(J23,".",K23)) -> 2.2
H24: Flete Local | I24: GASTOS DE SERVICIOS DE TERCEROS | J24: =IFERROR(INDEX($E$5:$F$14,MATCH($I24,$F$5:$F$14,0),1),"") -> 2 | K24: =IF($H24="","",COUNTIFS($I$5:I24,$I24)) -> 3 | L24: =IF($H24="","",_xlfn.CONCAT(J24,".",K24)) -> 2.3
H25: Flete a Provincia | I25: GASTOS DE SERVICIOS DE TERCEROS | J25: =IFERROR(INDEX($E$5:$F$14,MATCH($I25,$F$5:$F$14,0),1),"") -> 2 | K25: =IF($H25="","",COUNTIFS($I$5:I25,$I25)) -> 4 | L25: =IF($H25="","",_xlfn.CONCAT(J25,".",K25)) -> 2.4
H26: Servicio de montacarga | I26: GASTOS DE SERVICIOS DE TERCEROS | J26: =IFERROR(INDEX($E$5:$F$14,MATCH($I26,$F$5:$F$14,0),1),"") -> 2 | K26: =IF($H26="","",COUNTIFS($I$5:I26,$I26)) -> 5 | L26: =IF($H26="","",_xlfn.CONCAT(J26,".",K26)) -> 2.5
H27: Gasto de viaje | I27: GASTOS DE SERVICIOS DE TERCEROS | J27: =IFERROR(INDEX($E$5:$F$14,MATCH($I27,$F$5:$F$14,0),1),"") -> 2 | K27: =IF($H27="","",COUNTIFS($I$5:I27,$I27)) -> 6 | L27: =IF($H27="","",_xlfn.CONCAT(J27,".",K27)) -> 2.6
H28: Consultorias | I28: GASTOS DE SERVICIOS DE TERCEROS | J28: =IFERROR(INDEX($E$5:$F$14,MATCH($I28,$F$5:$F$14,0),1),"") -> 2 | K28: =IF($H28="","",COUNTIFS($I$5:I28,$I28)) -> 7 | L28: =IF($H28="","",_xlfn.CONCAT(J28,".",K28)) -> 2.7
H29: Courier | I29: GASTOS DE SERVICIOS DE TERCEROS | J29: =IFERROR(INDEX($E$5:$F$14,MATCH($I29,$F$5:$F$14,0),1),"") -> 2 | K29: =IF($H29="","",COUNTIFS($I$5:I29,$I29)) -> 8 | L29: =IF($H29="","",_xlfn.CONCAT(J29,".",K29)) -> 2.8
H30: Mantenimiento / Reparaciones | I30: GASTOS DE SERVICIOS DE TERCEROS | J30: =IFERROR(INDEX($E$5:$F$14,MATCH($I30,$F$5:$F$14,0),1),"") -> 2 | K30: =IF($H30="","",COUNTIFS($I$5:I30,$I30)) -> 9 | L30: =IF($H30="","",_xlfn.CONCAT(J30,".",K30)) -> 2.9
H31: Reparaciones Vehiculos | I31: GASTOS DE SERVICIOS DE TERCEROS | J31: =IFERROR(INDEX($E$5:$F$14,MATCH($I31,$F$5:$F$14,0),1),"") -> 2 | K31: =IF($H31="","",COUNTIFS($I$5:I31,$I31)) -> 10 | L31: =IF($H31="","",_xlfn.CONCAT(J31,".",K31)) -> 2.10
H32: Alquileres | I32: GASTOS DE SERVICIOS DE TERCEROS | J32: =IFERROR(INDEX($E$5:$F$14,MATCH($I32,$F$5:$F$14,0),1),"") -> 2 | K32: =IF($H32="","",COUNTIFS($I$5:I32,$I32)) -> 11 | L32: =IF($H32="","",_xlfn.CONCAT(J32,".",K32)) -> 2.11
H33: Energia Electrica | I33: GASTOS DE SERVICIOS DE TERCEROS | J33: =IFERROR(INDEX($E$5:$F$14,MATCH($I33,$F$5:$F$14,0),1),"") -> 2 | K33: =IF($H33="","",COUNTIFS($I$5:I33,$I33)) -> 12 | L33: =IF($H33="","",_xlfn.CONCAT(J33,".",K33)) -> 2.12
... H69: Amortiz.Software Costo | I69: GASTOS DE DEPRECIACIÓN, MAQ Y EQUIPOS | J69: =IFERROR(INDEX($E$5:$F$14,MATCH($I69,$F$5:$F$14,0),1),"") -> 4 | K69: =IF($H69="","",COUNTIFS($I$5:I69,$I69)) -> 15 | L69: =IF($H69="","",_xlfn.CONCAT(J69,".",K69)) -> 4.15
J70: =IFERROR(INDEX($E$5:$F$14,MATCH($I70,$F$5:$F$14,0),1),"") | K70: =IF($H70="","",COUNTIFS($I$5:I70,$I70)) | L70: =IF($H70="","",_xlfn.CONCAT(J70,".",K70))
J71: =IFERROR(INDEX($E$5:$F$14,MATCH($I71,$F$5:$F$14,0),1),"") | K71: =IF($H71="","",COUNTIFS($I$5:I71,$I71)) | L71: =IF($H71="","",_xlfn.CONCAT(J71,".",K71))
J72: =IFERROR(INDEX($E$5:$F$14,MATCH($I72,$F$5:$F$14,0),1),"") | K72: =IF($H72="","",COUNTIFS($I$5:I72,$I72)) | L72: =IF($H72="","",_xlfn.CONCAT(J72,".",K72))
J73: =IFERROR(INDEX($E$5:$F$14,MATCH($I73,$F$5:$F$14,0),1),"") | K73: =IF($H73="","",COUNTIFS($I$5:I73,$I73)) | L73: =IF($H73="","",_xlfn.CONCAT(J73,".",K73))
J74: =IFERROR(INDEX($E$5:$F$14,MATCH($I74,$F$5:$F$14,0),1),"") | K74: =IF($H74="","",COUNTIFS($I$5:I74,$I74)) | L74: =IF($H74="","",_xlfn.CONCAT(J74,".",K74))
J75: =IFERROR(INDEX($E$5:$F$14,MATCH($I75,$F$5:$F$14,0),1),"") | K75: =IF($H75="","",COUNTIFS($I$5:I75,$I75)) | L75: =IF($H75="","",_xlfn.CONCAT(J75,".",K75))
J76: =IFERROR(INDEX($E$5:$F$14,MATCH($I76,$F$5:$F$14,0),1),"") | K76: =IF($H76="","",COUNTIFS($I$5:I76,$I76)) | L76: =IF($H76="","",_xlfn.CONCAT(J76,".",K76))
J77: =IFERROR(INDEX($E$5:$F$14,MATCH($I77,$F$5:$F$14,0),1),"") | K77: =IF($H77="","",COUNTIFS($I$5:I77,$I77)) | L77: =IF($H77="","",_xlfn.CONCAT(J77,".",K77))
J78: =IFERROR(INDEX($E$5:$F$14,MATCH($I78,$F$5:$F$14,0),1),"") | K78: =IF($H78="","",COUNTIFS($I$5:I78,$I78)) | L78: =IF($H78="","",_xlfn.CONCAT(J78,".",K78))
...
